BEGIN:VCALENDAR
VERSION:2.0
PRODID:-//Power On Heels Fund Inc. - ECPv6.15.20//NONSGML v1.0//EN
CALSCALE:GREGORIAN
METHOD:PUBLISH
X-WR-CALNAME:Power On Heels Fund Inc.
X-ORIGINAL-URL:https://poweronheelsfund.org
X-WR-CALDESC:Events for Power On Heels Fund Inc.
REFRESH-INTERVAL;VALUE=DURATION:PT1H
X-Robots-Tag:noindex
X-PUBLISHED-TTL:PT1H
BEGIN:VTIMEZONE
TZID:America/Chicago
BEGIN:DAYLIGHT
TZOFFSETFROM:-0600
TZOFFSETTO:-0500
TZNAME:CDT
DTSTART:20240310T080000
END:DAYLIGHT
BEGIN:STANDARD
TZOFFSETFROM:-0500
TZOFFSETTO:-0600
TZNAME:CST
DTSTART:20241103T070000
END:STANDARD
BEGIN:DAYLIGHT
TZOFFSETFROM:-0600
TZOFFSETTO:-0500
TZNAME:CDT
DTSTART:20250309T080000
END:DAYLIGHT
BEGIN:STANDARD
TZOFFSETFROM:-0500
TZOFFSETTO:-0600
TZNAME:CST
DTSTART:20251102T070000
END:STANDARD
BEGIN:DAYLIGHT
TZOFFSETFROM:-0600
TZOFFSETTO:-0500
TZNAME:CDT
DTSTART:20260308T080000
END:DAYLIGHT
BEGIN:STANDARD
TZOFFSETFROM:-0500
TZOFFSETTO:-0600
TZNAME:CST
DTSTART:20261101T070000
END:STANDARD
END:VTIMEZONE
BEGIN:VEVENT
DTSTART;TZID=America/Chicago:20250715T113000
DTEND;TZID=America/Chicago:20250715T133000
DTSTAMP:20260420T084615
CREATED:20250611T212849Z
LAST-MODIFIED:20250611T212849Z
UID:10000031-1752579000-1752586200@poweronheelsfund.org
SUMMARY:POHF Lunch & Learn - July
DESCRIPTION:In the face of adversity\, true leadership shines. Join us for an engaging Lunch & Learn designed exclusively for community leaders seeking to strengthen\, motivate\, and inspire their teams during times of uncertainty and change. This interactive session will explore actionable strategies to build team resilience\, boost morale\, and foster a culture of growth even when resources are limited or challenges are high. \nKey Takeaways \n\nPractical tools for keeping teams engaged and energized\nStrategies for fostering a growth mindset during setbacks\nHow to communicate vision and inspire action during uncertainty\nReal-world examples of resilient leadership in community-focused organizations\n\nEvent Details \n💰 POHF MEMBERS: FREE ENTRY – Use your discount code when registering. Enjoy using your Member Benefits! \nNON-Members:  $15 \n📅 Tuesday\, July 15th\, 2025 \n🕛 11:30am – 1:00pm \n📍 CCSWB Facility – 10475 Deer Trail Drive\, Houston\, Texas 77038 \n🍽️ **Lunch Provided** \nAdd Bonus – Make plans to arrive early to take a tour of the CCSWB’s award winning bottling facilities. It is impressive and truly something to see! \nRSVP Today!
URL:https://poweronheelsfund.org/event/pohf-lunch-learn-july/
LOCATION:Coca Cola Southwest Beverages\, 10475 Deer Trail Drive\, Houston\, TX\, 77038\, United States
CATEGORIES:PoHF Events
ATTACH;FMTTYPE=image/jpeg:https://poweronheelsfund.org/wp-content/uploads/2025/06/lunch-and-learn.jpg
END:VEVENT
BEGIN:VEVENT
DTSTART;TZID=America/Chicago:20250716T120000
DTEND;TZID=America/Chicago:20250716T130000
DTSTAMP:20260420T084615
CREATED:20250628T150706Z
LAST-MODIFIED:20250628T152031Z
UID:10000033-1752667200-1752670800@poweronheelsfund.org
SUMMARY:Power UP Your Business - Session 2
DESCRIPTION:Legal Readiness\nEntrepreneurs work tirelessly every day to make their business a success.\nThey are responsible for every aspect of their operation—managing time\, processes\, clients\, finances\, and risk. With slim profit margins and an often-unpredictable market outlook\, most entrepreneurs operate in a solo state\, we are Building A Strong Network of Trusted Partners \nLunch & Learn Series wearing multiple hats and making critical decisions “by themselves.” \nThis delicate balancing act can lead to burnout\, missed opportunities\, and limited growth potential. That is why building a strong community of trusted partners such as insurance agents\, accounting professionals\, legal advisors\, bankers\, and collaborators—is not just helpful\, it is essential. \nBuilding a process to secure trusted partners is critical to achieving your business goals\, as it creates financial business stability and opportunities\, ensuring you have dependable experts to guide and support your journey. \nWe Have Created Four Sessions Lead By Powerful Experts! \n( Only 1 session during this session)  \nJuly 16th\, 2025 Session ( 12:00 PM – 1:00 PM) \nLegal Readiness – Doug Alford\, ESQ. \n\nLegal Protection & Compliance\n\nKey contracts every entrepreneur needs.\nHow to protect intellectual property and business interests.\n\n\n\nZoom Link Will Be Emailed To Registered Participants.\nMembers – FREE \nNon- Members $15 \nSign Up for all 4 Sessions! \nRegister Today!\n 
URL:https://poweronheelsfund.org/event/power-up-your-business-session-2/
LOCATION:
CATEGORIES:PoHF Events
ATTACH;FMTTYPE=image/png:https://poweronheelsfund.org/wp-content/uploads/2025/06/Power-Up-Series-Header.png
END:VEVENT
END:VCALENDAR