BEGIN:VCALENDAR
VERSION:2.0
PRODID:-//Power On Heels Fund Inc. - ECPv6.15.20//NONSGML v1.0//EN
CALSCALE:GREGORIAN
METHOD:PUBLISH
X-WR-CALNAME:Power On Heels Fund Inc.
X-ORIGINAL-URL:https://poweronheelsfund.org
X-WR-CALDESC:Events for Power On Heels Fund Inc.
REFRESH-INTERVAL;VALUE=DURATION:PT1H
X-Robots-Tag:noindex
X-PUBLISHED-TTL:PT1H
BEGIN:VTIMEZONE
TZID:America/Chicago
BEGIN:DAYLIGHT
TZOFFSETFROM:-0600
TZOFFSETTO:-0500
TZNAME:CDT
DTSTART:20240310T080000
END:DAYLIGHT
BEGIN:STANDARD
TZOFFSETFROM:-0500
TZOFFSETTO:-0600
TZNAME:CST
DTSTART:20241103T070000
END:STANDARD
BEGIN:DAYLIGHT
TZOFFSETFROM:-0600
TZOFFSETTO:-0500
TZNAME:CDT
DTSTART:20250309T080000
END:DAYLIGHT
BEGIN:STANDARD
TZOFFSETFROM:-0500
TZOFFSETTO:-0600
TZNAME:CST
DTSTART:20251102T070000
END:STANDARD
BEGIN:DAYLIGHT
TZOFFSETFROM:-0600
TZOFFSETTO:-0500
TZNAME:CDT
DTSTART:20260308T080000
END:DAYLIGHT
BEGIN:STANDARD
TZOFFSETFROM:-0500
TZOFFSETTO:-0600
TZNAME:CST
DTSTART:20261101T070000
END:STANDARD
END:VTIMEZONE
BEGIN:VEVENT
DTSTART;TZID=America/Chicago:20250723T120000
DTEND;TZID=America/Chicago:20250723T130000
DTSTAMP:20260420T072420
CREATED:20250628T151923Z
LAST-MODIFIED:20250628T151923Z
UID:10000034-1753272000-1753275600@poweronheelsfund.org
SUMMARY:Power UP Your Business - Session 3
DESCRIPTION:Entrepreneurs Diversify Your Revenue – Accounting Practices Tracking Your Money\nEntrepreneurs work tirelessly every day to make their business a success.\nThey are responsible for every aspect of their operation—managing time\, processes\, clients\, finances\, and risk. With slim profit margins and an often-unpredictable market outlook\, most entrepreneurs operate in a solo state\, we are Building A Strong Network of Trusted Partners \nLunch & Learn Series wearing multiple hats and making critical decisions “by themselves.” \nThis delicate balancing act can lead to burnout\, missed opportunities\, and limited growth potential. That is why building a strong community of trusted partners such as insurance agents\, accounting professionals\, legal advisors\, bankers\, and collaborators—is not just helpful\, it is essential. \nBuilding a process to secure trusted partners is critical to achieving your business goals\, as it creates financial business stability and opportunities\, ensuring you have dependable experts to guide and support your journey. \nWe Have Created Four Sessions Lead By Powerful Experts \n(Two Sessions on this day)  \nJuly 23rd\, 2025 – Session 1 (12:00 PM – 12:30 PM) \nEntrepreneurs Diversify Your Revenue  \nLocal Governments can be a Strategic Opportunity! \nAs entrepreneurs grow and scale\, seeking new revenue streams is essential for long-term stability Gain insights on how local governments can represent consistent funding. \n\nCity\, county\, and municipal governments operate on annual budgets often with funds earmarked for community programs\, small business support\, unique initiatives\, training\, and more.\n\nJuly 23rd\, 2025 – Session 2 (12:30 PM – 1:00 PM) \nAccounting Practices Tracking Your Money \nThree Key Accounting Practices Every Entrepreneur Needs To Improve Upon \n\nBudgeting and Cash Flow Management\nRecordkeeping and Documentation\nFinancial Reporting and Analysis\n\nZoom Link Will Be Emailed To Registered Participants.\nMembers – FREE \nNon- Members $15 \nSign Up for all 4 Sessions! \nRegister Today!\n 
URL:https://poweronheelsfund.org/event/power-up-your-business-session-3/
LOCATION:
CATEGORIES:PoHF Events
ATTACH;FMTTYPE=image/png:https://poweronheelsfund.org/wp-content/uploads/2025/06/Power-Up-Series-Header.png
END:VEVENT
BEGIN:VEVENT
DTSTART;TZID=America/Chicago:20250726T090000
DTEND;TZID=America/Chicago:20250726T113000
DTSTAMP:20260420T072420
CREATED:20250219T230151Z
LAST-MODIFIED:20250628T153005Z
UID:10000021-1753520400-1753529400@poweronheelsfund.org
SUMMARY:My SHINE - Self Care & Mental Health Series - Session 6
DESCRIPTION:Self-Care & Mental Health Allows Your Power To Shine Through\nStory \n    This session is Virtual!\nPower On Heels Fund\, Inc understands that SELF-CARE  & Mental Health is essential for women navigating daily stress\, as it nurtures mental\, emotional\, and physical well-being. By prioritizing rest\, reflection\, and rejuvenation\, women can build resilience\, maintain balance\, and show up stronger for themselves and others. It’s not a luxury—it’s a necessity for sustaining health and achieving personal and professional fulfillment. \nThis session\, we will cover: \nFinancial Wellness as SELF-CARE \n\nReducing Financial Stress: Budgeting and financial planning basics\nWealth-Building Strategies: Building confidence in managing finances\nOvercoming Financial Anxiety: Resources for financial literacy and support\n\nOur Facilitator \nKarina Garcia \nMA\, LMFT-Associate\, Therapy & CO \nZoom Link will be sent on Day of Virtual event \nFuture Session Calendar – 4th Saturday of Month – 10 Sessions (In Person and Virtually) \n\nAugust 23rd – Professional Growth & Balance\nSeptember 27th – Mental Health & Resources\nOctober 25th – Personal Growth Tracking\nNovember 25th – In Person – Sustaining Self Care\n\nRegister Today!
URL:https://poweronheelsfund.org/event/my-shine-session-6/
LOCATION:
CATEGORIES:PoHF Events
ATTACH;FMTTYPE=image/png:https://poweronheelsfund.org/wp-content/uploads/2025/02/myshine-image.png
END:VEVENT
END:VCALENDAR