BEGIN:VCALENDAR
VERSION:2.0
PRODID:-//Power On Heels Fund Inc. - ECPv6.15.20//NONSGML v1.0//EN
CALSCALE:GREGORIAN
METHOD:PUBLISH
X-WR-CALNAME:Power On Heels Fund Inc.
X-ORIGINAL-URL:https://poweronheelsfund.org
X-WR-CALDESC:Events for Power On Heels Fund Inc.
REFRESH-INTERVAL;VALUE=DURATION:PT1H
X-Robots-Tag:noindex
X-PUBLISHED-TTL:PT1H
BEGIN:VTIMEZONE
TZID:America/Chicago
BEGIN:DAYLIGHT
TZOFFSETFROM:-0600
TZOFFSETTO:-0500
TZNAME:CDT
DTSTART:20230312T080000
END:DAYLIGHT
BEGIN:STANDARD
TZOFFSETFROM:-0500
TZOFFSETTO:-0600
TZNAME:CST
DTSTART:20231105T070000
END:STANDARD
BEGIN:DAYLIGHT
TZOFFSETFROM:-0600
TZOFFSETTO:-0500
TZNAME:CDT
DTSTART:20240310T080000
END:DAYLIGHT
BEGIN:STANDARD
TZOFFSETFROM:-0500
TZOFFSETTO:-0600
TZNAME:CST
DTSTART:20241103T070000
END:STANDARD
BEGIN:DAYLIGHT
TZOFFSETFROM:-0600
TZOFFSETTO:-0500
TZNAME:CDT
DTSTART:20250309T080000
END:DAYLIGHT
BEGIN:STANDARD
TZOFFSETFROM:-0500
TZOFFSETTO:-0600
TZNAME:CST
DTSTART:20251102T070000
END:STANDARD
BEGIN:DAYLIGHT
TZOFFSETFROM:-0600
TZOFFSETTO:-0500
TZNAME:CDT
DTSTART:20260308T080000
END:DAYLIGHT
BEGIN:STANDARD
TZOFFSETFROM:-0500
TZOFFSETTO:-0600
TZNAME:CST
DTSTART:20261101T070000
END:STANDARD
END:VTIMEZONE
BEGIN:VEVENT
DTSTART;TZID=America/Chicago:20250426T090000
DTEND;TZID=America/Chicago:20250426T113000
DTSTAMP:20260423T035155
CREATED:20250219T224008Z
LAST-MODIFIED:20250219T232631Z
UID:10000018-1745658000-1745667000@poweronheelsfund.org
SUMMARY:My SHINE - Self Care & Mental Health Series - Session 3
DESCRIPTION:Self-Care & Mental Health Allows Your Power To Shine Through\nStory \nThis session is Virtual!\nPower On Heels Fund\, Inc understands that SELF-CARE  & Mental Health is essential for women navigating daily stress\, as it nurtures mental\, emotional\, and physical well-being. By prioritizing rest\, reflection\, and rejuvenation\, women can build resilience\, maintain balance\, and show up stronger for themselves and others. It’s not a luxury—it’s a necessity for sustaining health and achieving personal and professional fulfillment. \nThis session\, we will cover: \nEmotional Wellness Practices \n\nStress Management Techniques: Breathing exercises\, meditation\, and yoga\nEmotional Regulation: Techniques for handling anxiety\, anger\, and overwhelm\nBuilding Resilience: Cultivating a growth mindset and learning from setbacks\n\nOur Facilitator \nKarina Garcia \nMA\, LMFT-Associate\, Therapy & CO \nZoom Link will be sent on Day of Virtual event \nFuture Session Calendar – 4th Saturday of Month – 10 Sessions (In Person and Virtually) \n\nMay 24th – VIRTUAL  Physical Well Being & Its Impact On Mental Health\nJune 28th – In Person Social & Community Support\nJuly 26th – VIRTUAL Financial Wellness as Self Care\nAugust 23rd – Professional Growth & Balance\nSeptember 27th – Mental Health & Resources\nOctober 25th – Personal Growth Tracking\nNovember 25th – In Person – Sustaining Self Care\n\n  \nRegister Today!
URL:https://poweronheelsfund.org/event/my-shine-session-3/
LOCATION:TX
CATEGORIES:PoHF Events
ATTACH;FMTTYPE=image/png:https://poweronheelsfund.org/wp-content/uploads/2025/02/myshine-image.png
END:VEVENT
BEGIN:VEVENT
DTSTART;TZID=America/Chicago:20250412T090000
DTEND;TZID=America/Chicago:20250412T120000
DTSTAMP:20260423T035155
CREATED:20250220T234240Z
LAST-MODIFIED:20250408T170616Z
UID:10000027-1744448400-1744459200@poweronheelsfund.org
SUMMARY:POH - Power Purse Program Session 1
DESCRIPTION:Investing In Your Future GOALS!\nStory \nThis event is IN PERSON!\n👠👠To apply for our POH scholarship in June\, you must complete ONE OF THESE THREE sessions being offered in 2025. 👠👠 \nThe POWER ON HEELS’s POWER Purse Program™ (PPP) is designed to strengthen skills\, expand opportunities\, and accelerate career growth. It focuses on three key areas that drive both individual and organizational success. \nKey Area 1 – Emotional Intelligence \nEmotional intelligence or EQ is the ability to understand and manage your own emotions\, and those of the people around you. \nKey Area 2 – Leadership \nThis session will focus on the link between perceptions\, innovation and leadership. We explore leadership best practices and exchange ideas and new strategies for creating environments that fosters growth\, to act with confidence\, and to lead with lasting impact. \nKey Area 3 – Financial Mastery \nThe lack of financial resources can no longer impede our ability to succeed. By developing a greater understanding of finances\, by creating a comprehensive financial plan for the future\,  we can change lives.  Training provided Financial Partner. \nWho we encourage to register and complete PPP? \n\nHigh School Seniors – Attending college in the Fall\nCollege Students (Undergrad)\nMBA and Doctorial Students\nCorporate Professionals (Certifications\, Professional Training)\nBusiness Owners\n\nAttend 1  of the 4 sessions available in 2025 \n\nSaturday\, April 12th – In Person\nSaturday\, May 3rd – Virtual \nSaturday\, June 14th – Virtual \n\n🚩Since 2019\, Power On Heels Fund\, Inc has had over 600 women  have attended and completed the Power Purse Program. We have awarded  $78\,000 scholarships. \nWe want to encourage to sign\, attend and complete one of these sessions to QUALIFY to apply for the POH Scholarships! \nEMPOWER 👠 INSPIRE   👠  ELEVATE \n \nRegister Today!
URL:https://poweronheelsfund.org/event/power-purse-program-2025-session-2/
LOCATION:Rice University\, Anderson Clarke Center 6100 Main St\, Houston\, TX\, 77005\, United States
CATEGORIES:PoHF Events
ATTACH;FMTTYPE=image/png:https://poweronheelsfund.org/wp-content/uploads/2025/02/Copy-of-Copy-of-Rice-2024-LPPP-Flyer.png
END:VEVENT
BEGIN:VEVENT
DTSTART;TZID=America/Chicago:20250322T090000
DTEND;TZID=America/Chicago:20250322T113000
DTSTAMP:20260423T035155
CREATED:20250219T183226Z
LAST-MODIFIED:20250318T221010Z
UID:10000017-1742634000-1742643000@poweronheelsfund.org
SUMMARY:My SHINE - Self Care & Mental Health Series - Session 2
DESCRIPTION:Self-Care & Mental Health Allows Your Power To Shine Through\nStory \nThis session is Virtual!\nPower On Heels Fund\, Inc understands that SELF-CARE  & Mental Health is essential for women navigating daily stress\, as it nurtures mental\, emotional\, and physical well-being. By prioritizing rest\, reflection\, and rejuvenation\, women can build resilience\, maintain balance\, and show up stronger for themselves and others. It’s not a luxury—it’s a necessity for sustaining health and achieving personal and professional fulfillment. \nThis session\, we will cover: \nSELF-CARE Foundations \n\nUnderstanding Personal Needs: Identifying physical\, emotional\, and mental needs\nDeveloping Self-Awareness: Mindfulness and journaling to track emotions and stress\nCreating Boundaries: Learning to say no\, managing commitments\, and setting healthy boundaries\n\nOur Facilitator \n        Corissa Barrow\, MA\, LMFT-Associate \n        Executive Director\, The MIND Project \nZoom Link will be sent on Day of Virtual event \nFuture Session Calendar – 4th Saturday of Month – 10 Sessions (In Person and Virtually) \n\nApril 26th – VIRTUAL Emotional Wellness Practices\nMay 24th – VIRTUAL  Physical Well Being & Its Impact On Mental Health\nJune 28th – In Person Social & Community Support\nJuly 26th – VIRTUAL Financial Wellness as Self Care\nAugust 23rd – Professional Growth & Balance\nSeptember 27th – Mental Health & Resources\nOctober 25th – Personal Growth Tracking\nNovember 25th – In Person – Sustaining Self Care\n\nRegister Today!\n 
URL:https://poweronheelsfund.org/event/my-shine-session-2/
LOCATION:TX
CATEGORIES:PoHF Events
ATTACH;FMTTYPE=image/png:https://poweronheelsfund.org/wp-content/uploads/2025/02/myshine-image.png
END:VEVENT
BEGIN:VEVENT
DTSTART;TZID=America/Chicago:20250222T090000
DTEND;TZID=America/Chicago:20250222T120000
DTSTAMP:20260423T035155
CREATED:20250219T180625Z
LAST-MODIFIED:20250219T182306Z
UID:10000016-1740214800-1740225600@poweronheelsfund.org
SUMMARY:My SHINE - Self Care & Mental Health Series - Session 1
DESCRIPTION:Self-Care & Mental Health Allows Your Power To Shine Through\nStory \nThis session is In Person!\nPower On Heels Fund\, Inc understands that SELF-CARE  & Mental Health is essential for women navigating daily stress\, as it nurtures mental\, emotional\, and physical well-being. By prioritizing rest\, reflection\, and rejuvenation\, women can build resilience\, maintain balance\, and show up stronger for themselves and others. It’s not a luxury—it’s a necessity for sustaining health and achieving personal and professional fulfillment. \nThis session\, we will cover: \nIntroduction to Mental Health and SELF-CARE   \n\nOverview of Mental Health: Understanding emotional\, psychological\, and social well-being\n\n\nImportance of SELF-CARE : How it supports mental health\, productivity\, and overall well-being\nAddressing Gender-Specific Challenges: Balancing professional\, personal\, and societal roles\n\nOur Facilitator \nCorissa Barrow\, MA\, LMFT-Associate \nExecutive Director\, The MIND Project \nKarina Garcia \nMA\, LMFT-Associate\, Therapy & CO \nFuture Session Calendar – 4th Saturday of Month – 10 Sessions (In Person and Virtually) \n\nFebruary 22nd – In Person –  Introduction to Mental Health and SELF-CARE  \nMarch 22nd  – VIRTUAL  Self Care Foundations\nApril 26th – VIRTUAL Emotional Wellness Practices\nMay 24th – VIRTUAL  Physical Well Being & Its Impact On Mental Health\nJune 28th – In Person Social & Community Support\nJuly 26th – VIRTUAL Financial Wellness as Self Care\nAugust 23rd – Professional Growth & Balance\nSeptember 27th – Mental Health & Resources\nOctober 25th – Personal Growth Tracking\nNovember 29th – In Person – Sustaining Self Care\n\n  \nRegister Today!\n 
URL:https://poweronheelsfund.org/event/my-shine-session-1/
LOCATION:The Council of Recovery\, 303 Jackson Hill St\,\, Houston\, TX\, 77007\, United States
CATEGORIES:PoHF Events
ATTACH;FMTTYPE=image/png:https://poweronheelsfund.org/wp-content/uploads/2025/02/myshine-image.png
END:VEVENT
BEGIN:VEVENT
DTSTART;TZID=America/Chicago:20241112T113000
DTEND;TZID=America/Chicago:20241112T130000
DTSTAMP:20260423T035155
CREATED:20240813T154138Z
LAST-MODIFIED:20240904T021212Z
UID:10000014-1731411000-1731416400@poweronheelsfund.org
SUMMARY:POHF 6th Annual Luncheon & Scholarship Awards
DESCRIPTION:Join us for a momentous occasion—the 6th Annual POWER ON HEELS Luncheon & Scholarship Awards on November 12th\, 2024.\n\nThe celebration of CHANGEMAKERS is a powerful affirmation of the human spirit’s capacity for innovation and change. We honor these individuals who inspire us to think critically\, act courageously\, and engage collectively. By shining a light on their contributions\, we honor their work that ignites a movement that encourages all of us to step up\, challenge ourselves\, and contribute to a better world. Together\, we can follow the trails they blaze\, paving the way for future generations to innovate\, advocate\, and thrive.\n\n Luncheon ~ Join us as we kick off the day in an elegant setting filled with networking opportunities and a chance to meet all our powerful scholarship honorees.\n\n\n\n\n\n\nRegister Today!
URL:https://poweronheelsfund.org/event/2024_annual_pohf_luncheon_scholarship_awards/
LOCATION:Junior League of Houston\, 1811 Briar Oaks Ln\, Houston\, Texas\, 77027
CATEGORIES:PoHF Events
END:VEVENT
BEGIN:VEVENT
DTSTART;TZID=America/Chicago:20241107T190000
DTEND;TZID=America/Chicago:20241107T200000
DTSTAMP:20260423T035155
CREATED:20240508T164718Z
LAST-MODIFIED:20241009T182122Z
UID:10000011-1731006000-1731009600@poweronheelsfund.org
SUMMARY:POHF Advancing in the Workplace: 8
DESCRIPTION:Life works Balance – Let’s focus on BALANCE\nTopic Overview \nWork-life balance is not just about managing time\, but also about recognizing emotional and mental challenges that can push us toward burnout. \nLatinas\,often carry the weight of cultural expectations\, professional pressures\, and personal responsibilities\, making it crucial to identify early signs of fatigue and stress. Understanding these warning signs—whether it’s constant exhaustion\, irritability\, or loss of motivation—is the first step toward protecting our well-being. \nLet’s talk about prioritizing self-care\, setting boundaries\, and seeking support\, we can navigate these challenges\, reclaim our balance\, and continue thriving in both our personal and professional lives! \n  \nRegister Today!
URL:https://poweronheelsfund.org/event/pohf-advancing-in-the-workplace-8/
LOCATION:TX
CATEGORIES:PoHF Events
ATTACH;FMTTYPE=image/png:https://poweronheelsfund.org/wp-content/uploads/2024/05/Daniela-Zapata-AIWP-Amanda-Trevizo.png
END:VEVENT
BEGIN:VEVENT
DTSTART;TZID=America/Chicago:20241004T170000
DTEND;TZID=America/Chicago:20241004T200000
DTSTAMP:20260423T035155
CREATED:20240903T231008Z
LAST-MODIFIED:20240927T182203Z
UID:10000015-1728061200-1728072000@poweronheelsfund.org
SUMMARY:POHF Latina Equal Pay Day
DESCRIPTION:Power On Heels Fund\, Inc. is excited to observe LATINA EQUAL PAY Day in Houston! \nJoin us for an evening of powerful networking\, food\, and community! Our goal is to bring greater awareness to Latina Equal Pay Day and the challenges Latinas face in today’s marketplace. More importantly\, this collaboration will be even more powerful as we are extending an invitation to various Latina-based organizations in our community to bring their unique perspective on the injustice Latinas face across industry. \nSadly\, “Latinas working full-time\, year-round are paid 57 cents\, and all earners (including part-time and seasonal) are paid 52 cents for every dollar paid to non-Hispanic white men.” \n  \nLatina Power Panel\nIrene Nunez – Latina Voting Power\nAna Machado – Latinas In TECH\nKarina Izaguirre – Lean In Latinas\nClarissa Barboza – Latinas In Corporate\nJenny Ovalles – Latinas In Aviation\nMaria Duran – Latinas In Sports \nFireside Chat with DEI Leader\, Mari Marques Thomas\,\nVice President of Impact & Belonging at Crum & Forster \nPlus\,  FOOD\, Networking\, and Prizes! \nRegistration is FREE and Required – Limited Space  \nDon’t come alone – Bring an Amiga too! \nA big “thank you” to our Community Partners\, Impact Hub Houston\, and GOYA for supporting this effort! \n  \nRegister Today!
URL:https://poweronheelsfund.org/event/pohf-latina-equal-pay-2024/
LOCATION:TX
CATEGORIES:PoHF Events
END:VEVENT
BEGIN:VEVENT
DTSTART;TZID=America/Chicago:20241003T190000
DTEND;TZID=America/Chicago:20241003T200000
DTSTAMP:20260423T035155
CREATED:20240508T164908Z
LAST-MODIFIED:20240904T011426Z
UID:10000012-1727982000-1727985600@poweronheelsfund.org
SUMMARY:POHF Advancing in the Workplace: 7
DESCRIPTION:Power On Heels Fund\, Inc’s new virtual series\, ADVANCING IN THE WORKPLACE is designed to foster growth and provide resources for innovative learning and collaboration among professionals LATINAS seeking the skills to further develop their careers. This series will be combining experiential wisdom\, expert guidance\, and a community of peers to best serve\, create\, and develop confident leaders among LATINAS. \n  \nRegister Today!
URL:https://poweronheelsfund.org/event/pohf-advancing-in-the-workplace-7/
LOCATION:TX
CATEGORIES:PoHF Events
END:VEVENT
BEGIN:VEVENT
DTSTART;TZID=America/Chicago:20240919T173000
DTEND;TZID=America/Chicago:20240919T200000
DTSTAMP:20260423T035155
CREATED:20240508T153749Z
LAST-MODIFIED:20240904T011154Z
UID:10000010-1726767000-1726776000@poweronheelsfund.org
SUMMARY:POHF Hispanic Heritage Month Latina Building Wealth
DESCRIPTION:As part of the Power On Heels Fund\, Inc – LATINA POWER INSTITUTE \, we are excited to bring to you the LATINA BUILDING WEALTH SERIES powered by WELLS FARGO. \nTogether\, Power On Heels Fund\, Inc and WELLS FARGO want to take the intimidation out of dealing with financial decisions. Whether it’s managing monthly expenses\, building a nest egg\, purchasing your first home or starting a business\, we want to be a source of support for LATINAS! We desire to guide LATINAS to build a strong sense of financial wealth building and to secure valuable tools to identify and maximize earning opportunities! #REALTALK \n  \nRegister Today!\n 
URL:https://poweronheelsfund.org/event/pohf-hispanic-heritage-month-latina-building-wealth/
LOCATION:TX
CATEGORIES:PoHF Events
END:VEVENT
BEGIN:VEVENT
DTSTART;TZID=America/Chicago:20240912T190000
DTEND;TZID=America/Chicago:20240912T200000
DTSTAMP:20260423T035155
CREATED:20240508T165235Z
LAST-MODIFIED:20240904T174045Z
UID:10000013-1726167600-1726171200@poweronheelsfund.org
SUMMARY:POHF Advancing in the Workplace 6: Leadership Styles w/ Amanda Trevizo
DESCRIPTION:Power On Heels Fund\, Inc’s new virtual series\, ADVANCING IN THE WORKPLACE is designed to foster growth and provide resources for innovative learning and collaboration among professionals LATINAS seeking the skills to further develop their careers. This series will be combining experiential wisdom\, expert guidance\, and a community of peers to best serve\, create\, and develop confident leaders among LATINAS. \nLeadership is not defined by titles or positions—it’s about influence\, impact\, and collaboration. Join us for an insightful discussion on how to lead effectively within a team\, even when you’re not the designated leader. We’ll explore different leadership styles and provide practical strategies for applying them in your role\, regardless of your position. Whether you’re driving change\, motivating others\, or simply setting an example\, this event will empower you to embrace your leadership potential in any environment. \n  \nRegister Today!\n 
URL:https://poweronheelsfund.org/event/pohf-advancing-in-the-workplace-6/
LOCATION:TX
CATEGORIES:PoHF Events
END:VEVENT
BEGIN:VEVENT
DTSTART;TZID=America/Chicago:20240814T090000
DTEND;TZID=America/Chicago:20240814T120000
DTSTAMP:20260423T035155
CREATED:20240508T153444Z
LAST-MODIFIED:20240715T192123Z
UID:10000009-1723626000-1723636800@poweronheelsfund.org
SUMMARY:POHF Latina Business Mentor Circle
DESCRIPTION:This interactive event is designed to increase the success of today’s Latina business owners and start-ups. This program provides an opportunity for participants to obtain “real-world” advice and guidance on securing funding\, creating multiple revenue streams\, to securing valuable business certifications from business experts. This event offers an opportunity to network up close with our business experts.
URL:https://poweronheelsfund.org/event/pohf-latina-business-mentor-circle/
LOCATION:TX
CATEGORIES:PoHF Events
END:VEVENT
BEGIN:VEVENT
DTSTART;TZID=America/Chicago:20240807T173000
DTEND;TZID=America/Chicago:20240807T200000
DTSTAMP:20260423T035155
CREATED:20240508T153342Z
LAST-MODIFIED:20240508T153342Z
UID:10000008-1723051800-1723060800@poweronheelsfund.org
SUMMARY:POHF The Confident Latina Leader Part 2
DESCRIPTION:Leveraging Emotional Intelligence (EQ) is highly important in today’s fast-paced marketplace and in every workplace. EQ can hold the key to your career advancement. Building CONFIDENCE starts in knowing more about your emotions and what triggers them is part of every leader’s journey. During this workshop\, we will assist participants to considered learning more about being in touch with one’s emotions\, guide them through ideas and techniques for improving every social interaction.
URL:https://poweronheelsfund.org/event/pohf-the-confident-latina-leader-part-2/
LOCATION:TX
CATEGORIES:PoHF Events
END:VEVENT
BEGIN:VEVENT
DTSTART;TZID=America/Chicago:20240801T080000
DTEND;TZID=America/Chicago:20240801T170000
DTSTAMP:20260423T035155
CREATED:20240508T144856Z
LAST-MODIFIED:20240904T010623Z
UID:10000005-1722499200-1722531600@poweronheelsfund.org
SUMMARY:POHF Advancing in the Workplace: 5
DESCRIPTION:Power On Heels Fund\, Inc’s new virtual series\, ADVANCING IN THE WORKPLACE is designed to foster growth and provide resources for innovative learning and collaboration among professionals LATINAS seeking the skills to further develop their careers. This series will be combining experiential wisdom\, expert guidance\, and a community of peers to best serve\, create\, and develop confident leaders among LATINAS. \n  \n 
URL:https://poweronheelsfund.org/event/pohf-advancing-in-the-workplace-5/
LOCATION:
CATEGORIES:PoHF Events
END:VEVENT
BEGIN:VEVENT
DTSTART;TZID=America/Chicago:20240731T173000
DTEND;TZID=America/Chicago:20240731T200000
DTSTAMP:20260423T035155
CREATED:20240508T153235Z
LAST-MODIFIED:20240508T153235Z
UID:10000007-1722447000-1722456000@poweronheelsfund.org
SUMMARY:POHF The Confident Latina Leader Part 1
DESCRIPTION:Leveraging Emotional Intelligence (EQ) is highly important in today’s fast-paced marketplace and in every workplace. EQ can hold the key to your career advancement. Building CONFIDENCE starts in knowing more about your emotions and what triggers them is part of every leader’s journey. During this workshop\, we will assist participants to considered learning more about being in touch with one’s emotions\, guide them through ideas and techniques for improving every social interaction.
URL:https://poweronheelsfund.org/event/pohf-the-confident-latina-leader-part-1/
LOCATION:TX
CATEGORIES:PoHF Events
END:VEVENT
BEGIN:VEVENT
DTSTART;TZID=America/Chicago:20240711T190000
DTEND;TZID=America/Chicago:20240711T200000
DTSTAMP:20260423T035155
CREATED:20240508T144743Z
LAST-MODIFIED:20240621T160227Z
UID:10000004-1720724400-1720728000@poweronheelsfund.org
SUMMARY:POHF Advancing in the Workplace: Salary Negotiation
DESCRIPTION:Power On Heels Fund\, Inc’s new virtual series\, ADVANCING IN THE WORKPLACE is designed to foster growth and provide resources for innovative learning and collaboration among professionals LATINAS seeking the skills to further develop their careers. This series will be combining experiential wisdom\, expert guidance\, and a community of peers to best serve\, create\, and develop confident leaders among LATINAS.
URL:https://poweronheelsfund.org/event/pohf-advancing-in-the-workplace-salary-negotiation/
LOCATION:TX
CATEGORIES:PoHF Events
END:VEVENT
BEGIN:VEVENT
DTSTART;TZID=America/Chicago:20240615T090000
DTEND;TZID=America/Chicago:20240615T130000
DTSTAMP:20260423T035155
CREATED:20240508T140936Z
LAST-MODIFIED:20240508T152800Z
UID:10000001-1718442000-1718456400@poweronheelsfund.org
SUMMARY:POHF Elevate the Powerful Leader Within
DESCRIPTION:Experience a Transformational Latina’s Leadership Program \nIt is time to expand your circle of influence and gain tools and skills to make a positive impact on your team\, organization\, and community. Uncover how to become a more powerful\, impactful and effective leader during this Power On Heels Fund’s Leadership Program\, designed by and for Latinas.
URL:https://poweronheelsfund.org/event/pohf-elevate-the-powerful-leader-within/
LOCATION:TX
CATEGORIES:PoHF Events
END:VEVENT
BEGIN:VEVENT
DTSTART;TZID=America/Chicago:20240606T190000
DTEND;TZID=America/Chicago:20240606T200000
DTSTAMP:20260423T035155
CREATED:20240508T144432Z
LAST-MODIFIED:20240508T145239Z
UID:10000003-1717700400-1717704000@poweronheelsfund.org
SUMMARY:POHF Advancing in the Workplace: Navigating Microaggressions in the Workplace
DESCRIPTION:Power On Heels Fund\, Inc’s new virtual series\, ADVANCING IN THE WORKPLACE is designed to foster growth and provide resources for innovative learning and collaboration among professionals LATINAS seeking the skills to further develop their careers. This series will be combining experiential wisdom\, expert guidance\, and a community of peers to best serve\, create\, and develop confident leaders among LATINAS.
URL:https://poweronheelsfund.org/event/pohf-advancing-in-the-workplace-navigating-microaggressions-in-the-workplace/
LOCATION:TX
CATEGORIES:PoHF Events
END:VEVENT
BEGIN:VEVENT
DTSTART;TZID=America/Chicago:20240529T113000
DTEND;TZID=America/Chicago:20240529T130000
DTSTAMP:20260423T035155
CREATED:20240508T152951Z
LAST-MODIFIED:20240508T152951Z
UID:10000006-1716982200-1716987600@poweronheelsfund.org
SUMMARY:Lunch & Learn; About Power on Heels Fund
DESCRIPTION:We would personally like to invite you to come and discover all the POWERFUL things being done to change the lives of women in our community to enhance education opportunities\, advance careers and build confident leaders!
URL:https://poweronheelsfund.org/event/lunch-about-power-on-heels-fund/
LOCATION:TX
CATEGORIES:PoHF Events
END:VEVENT
END:VCALENDAR