BEGIN:VCALENDAR
VERSION:2.0
PRODID:-//Power On Heels Fund Inc. - ECPv6.15.20//NONSGML v1.0//EN
CALSCALE:GREGORIAN
METHOD:PUBLISH
X-WR-CALNAME:Power On Heels Fund Inc.
X-ORIGINAL-URL:https://poweronheelsfund.org
X-WR-CALDESC:Events for Power On Heels Fund Inc.
REFRESH-INTERVAL;VALUE=DURATION:PT1H
X-Robots-Tag:noindex
X-PUBLISHED-TTL:PT1H
BEGIN:VTIMEZONE
TZID:America/Chicago
BEGIN:DAYLIGHT
TZOFFSETFROM:-0600
TZOFFSETTO:-0500
TZNAME:CDT
DTSTART:20240310T080000
END:DAYLIGHT
BEGIN:STANDARD
TZOFFSETFROM:-0500
TZOFFSETTO:-0600
TZNAME:CST
DTSTART:20241103T070000
END:STANDARD
BEGIN:DAYLIGHT
TZOFFSETFROM:-0600
TZOFFSETTO:-0500
TZNAME:CDT
DTSTART:20250309T080000
END:DAYLIGHT
BEGIN:STANDARD
TZOFFSETFROM:-0500
TZOFFSETTO:-0600
TZNAME:CST
DTSTART:20251102T070000
END:STANDARD
BEGIN:DAYLIGHT
TZOFFSETFROM:-0600
TZOFFSETTO:-0500
TZNAME:CDT
DTSTART:20260308T080000
END:DAYLIGHT
BEGIN:STANDARD
TZOFFSETFROM:-0500
TZOFFSETTO:-0600
TZNAME:CST
DTSTART:20261101T070000
END:STANDARD
END:VTIMEZONE
BEGIN:VEVENT
DTSTART;TZID=America/Chicago:20250916T173000
DTEND;TZID=America/Chicago:20250916T190000
DTSTAMP:20260419T092915
CREATED:20250905T172516Z
LAST-MODIFIED:20250905T172516Z
UID:10000037-1758043800-1758049200@poweronheelsfund.org
SUMMARY:Women Leading in Politics
DESCRIPTION:Presented by Power On Heels Fund\, Inc and in partnership with HCC Southeast \nWomen are at the forefront of creating meaningful change in our communities. Women Leading in Politics highlights the voices and journeys of women who have embraced the call to public service and leadership. These remarkable leaders demonstrate their commitment to making a difference\, leaving a legacy\, and leading with integrity. \nThis event will explore the courage it takes to make tough decisions\, the honesty and communication required to achieve shared goals\, and the unwavering dedication to serve with vision and purpose. Beyond their political roles\, these women also balance the responsibilities of family\, personal growth\, and community engagement—showing us that leadership is not just about holding office\, but about uplifting others and paving the way for future generations. \nPanelists are elected officials from the Houston Area: \n\nHarris County Commissioner\, Precinct 4\, Lesley Briones\nHarris County Clerk\, Teneshia Hudspeth\n\nModerated: Tanya Makany Rivera\, Director External Affairs at AT&T \nDate: Tuesday\, September 16th\, 2025 \nTime: \n\n5:30pm – Doors Open/Registration\n6:00pm – Panel/ Q&A\n\nLocation\nHCC Southeast Campus\n6815 Rustic Street\nHouston\, Texas 77087 \nRegistration is FREE! \nRegister Today!
URL:https://poweronheelsfund.org/event/women-leading-in-politics/
LOCATION:HCC Southeast Campus\, 6815 Rustic Street\, Houston\, TX\, 77087\, United States
CATEGORIES:PoHF Events
ATTACH;FMTTYPE=image/png:https://poweronheelsfund.org/wp-content/uploads/2025/09/Header-of-POHF-Women-Leading-in-Politics.png
END:VEVENT
END:VCALENDAR