BEGIN:VCALENDAR
VERSION:2.0
PRODID:-//Power On Heels Fund Inc. - ECPv6.15.20//NONSGML v1.0//EN
CALSCALE:GREGORIAN
METHOD:PUBLISH
X-ORIGINAL-URL:https://poweronheelsfund.org
X-WR-CALDESC:Events for Power On Heels Fund Inc.
REFRESH-INTERVAL;VALUE=DURATION:PT1H
X-Robots-Tag:noindex
X-PUBLISHED-TTL:PT1H
BEGIN:VTIMEZONE
TZID:America/Chicago
BEGIN:DAYLIGHT
TZOFFSETFROM:-0600
TZOFFSETTO:-0500
TZNAME:CDT
DTSTART:20240310T080000
END:DAYLIGHT
BEGIN:STANDARD
TZOFFSETFROM:-0500
TZOFFSETTO:-0600
TZNAME:CST
DTSTART:20241103T070000
END:STANDARD
BEGIN:DAYLIGHT
TZOFFSETFROM:-0600
TZOFFSETTO:-0500
TZNAME:CDT
DTSTART:20250309T080000
END:DAYLIGHT
BEGIN:STANDARD
TZOFFSETFROM:-0500
TZOFFSETTO:-0600
TZNAME:CST
DTSTART:20251102T070000
END:STANDARD
BEGIN:DAYLIGHT
TZOFFSETFROM:-0600
TZOFFSETTO:-0500
TZNAME:CDT
DTSTART:20260308T080000
END:DAYLIGHT
BEGIN:STANDARD
TZOFFSETFROM:-0500
TZOFFSETTO:-0600
TZNAME:CST
DTSTART:20261101T070000
END:STANDARD
END:VTIMEZONE
BEGIN:VEVENT
DTSTART;TZID=America/Chicago:20250412T090000
DTEND;TZID=America/Chicago:20250412T120000
DTSTAMP:20260424T063046
CREATED:20250220T234240Z
LAST-MODIFIED:20250408T170616Z
UID:10000027-1744448400-1744459200@poweronheelsfund.org
SUMMARY:POH - Power Purse Program Session 1
DESCRIPTION:Investing In Your Future GOALS!\nStory \nThis event is IN PERSON!\n👠👠To apply for our POH scholarship in June\, you must complete ONE OF THESE THREE sessions being offered in 2025. 👠👠 \nThe POWER ON HEELS’s POWER Purse Program™ (PPP) is designed to strengthen skills\, expand opportunities\, and accelerate career growth. It focuses on three key areas that drive both individual and organizational success. \nKey Area 1 – Emotional Intelligence \nEmotional intelligence or EQ is the ability to understand and manage your own emotions\, and those of the people around you. \nKey Area 2 – Leadership \nThis session will focus on the link between perceptions\, innovation and leadership. We explore leadership best practices and exchange ideas and new strategies for creating environments that fosters growth\, to act with confidence\, and to lead with lasting impact. \nKey Area 3 – Financial Mastery \nThe lack of financial resources can no longer impede our ability to succeed. By developing a greater understanding of finances\, by creating a comprehensive financial plan for the future\,  we can change lives.  Training provided Financial Partner. \nWho we encourage to register and complete PPP? \n\nHigh School Seniors – Attending college in the Fall\nCollege Students (Undergrad)\nMBA and Doctorial Students\nCorporate Professionals (Certifications\, Professional Training)\nBusiness Owners\n\nAttend 1  of the 4 sessions available in 2025 \n\nSaturday\, April 12th – In Person\nSaturday\, May 3rd – Virtual \nSaturday\, June 14th – Virtual \n\n🚩Since 2019\, Power On Heels Fund\, Inc has had over 600 women  have attended and completed the Power Purse Program. We have awarded  $78\,000 scholarships. \nWe want to encourage to sign\, attend and complete one of these sessions to QUALIFY to apply for the POH Scholarships! \nEMPOWER 👠 INSPIRE   👠  ELEVATE \n \nRegister Today!
URL:https://poweronheelsfund.org/event/power-purse-program-2025-session-2/
LOCATION:Rice University\, Anderson Clarke Center 6100 Main St\, Houston\, TX\, 77005\, United States
CATEGORIES:PoHF Events
ATTACH;FMTTYPE=image/png:https://poweronheelsfund.org/wp-content/uploads/2025/02/Copy-of-Copy-of-Rice-2024-LPPP-Flyer.png
END:VEVENT
END:VCALENDAR